BEGIN:VCALENDAR
VERSION:2.0
PRODID:-//pretix//pretix.eu//
BEGIN:VTIMEZONE
TZID:Europe/Zurich
BEGIN:STANDARD
DTSTART:20001029T040000
RRULE:FREQ=YEARLY;BYDAY=-1SU;BYMONTH=10
TZNAME:CET
TZOFFSETFROM:+0200
TZOFFSETTO:+0100
END:STANDARD
BEGIN:DAYLIGHT
DTSTART:20000326T030000
RRULE:FREQ=YEARLY;BYDAY=-1SU;BYMONTH=3
TZNAME:CEST
TZOFFSETFROM:+0100
TZOFFSETTO:+0200
END:DAYLIGHT
END:VTIMEZONE
BEGIN:VEVENT
UID:pretix-hrm-sac-3974682@shop.securite-au-carre.ch
DTSTART;TZID=Europe/Zurich:20250903T090000
DTEND;TZID=Europe/Zurich:20250904T170000
DESCRIPTION:Tickets : https://shop.securite-au-carre.ch/3974682/\nOrganisa
 teur : HRM Institute GmbH & Co.KG
DTSTAMP:20260420T205612Z
LOCATION:Beaulieu Lausanne\, Av. Bergières 10\, Lausanne
SUMMARY:Sécurité au carré
END:VEVENT
END:VCALENDAR
